BEGIN:VCALENDAR
VERSION:2.0
PRODID:-//XIROCOURT - ECPv5.2.1//NONSGML v1.0//EN
CALSCALE:GREGORIAN
METHOD:PUBLISH
X-WR-CALNAME:XIROCOURT
X-ORIGINAL-URL:https://www.xirocourt.fr
X-WR-CALDESC:évènements pour XIROCOURT
BEGIN:VTIMEZONE
TZID:Europe/Paris
BEGIN:DAYLIGHT
TZOFFSETFROM:+0100
TZOFFSETTO:+0200
TZNAME:CEST
DTSTART:20250330T010000
END:DAYLIGHT
BEGIN:STANDARD
TZOFFSETFROM:+0200
TZOFFSETTO:+0100
TZNAME:CET
DTSTART:20251026T010000
END:STANDARD
END:VTIMEZONE
BEGIN:VEVENT
DTSTART;TZID=Europe/Paris:20250628T180000
DTEND;TZID=Europe/Paris:20250628T235900
DTSTAMP:20260420T141944
CREATED:20250527T174342Z
LAST-MODIFIED:20250527T174342Z
UID:1558-1751133600-1751155140@www.xirocourt.fr
SUMMARY:FETE DE LA MUSIQUE A XIROCOURT 2025
DESCRIPTION:Fête de la musique a Xirocourt 2025 \nRestauration sur place avec des produits locaux \nDifférents artistes ce produiront a partir de 18h \ndans différents style : Orchestre\, Chorale \, et groupes musical d’horizon divers \net un temps magnifique commandé \n 
URL:https://www.xirocourt.fr/evenement/fete-de-la-musique-a-xirocourt-2025/
END:VEVENT
END:VCALENDAR